BEGIN:VCALENDAR
VERSION:2.0
PRODID:-//Everything Inc. - ECPv6.10.0//NONSGML v1.0//EN
CALSCALE:GREGORIAN
METHOD:PUBLISH
X-WR-CALNAME:Everything Inc.
X-ORIGINAL-URL:https://cupcork.funkyhatweb.com
X-WR-CALDESC:Events for Everything Inc.
REFRESH-INTERVAL;VALUE=DURATION:PT1H
X-Robots-Tag:noindex
X-PUBLISHED-TTL:PT1H
BEGIN:VTIMEZONE
TZID:UTC
BEGIN:STANDARD
TZOFFSETFROM:+0000
TZOFFSETTO:+0000
TZNAME:UTC
DTSTART:20250101T000000
END:STANDARD
END:VTIMEZONE
BEGIN:VEVENT
DTSTART;TZID=UTC:20250123T193000
DTEND;TZID=UTC:20250123T213000
DTSTAMP:20260423T234833
CREATED:20250110T183704Z
LAST-MODIFIED:20250110T183709Z
UID:1658-1737660600-1737667800@cupcork.funkyhatweb.com
SUMMARY:Alpha Course
DESCRIPTION:
URL:https://cupcork.funkyhatweb.com/event/alpha-course/
LOCATION:The Carraig Centre\, Old Quarter\, Ballincollig\, Cork\, P31 PV20\, Ireland
ATTACH;FMTTYPE=image/jpeg:https://cupcork.funkyhatweb.com/wp-content/uploads/2025/01/alpha.jpeg
ORGANIZER;CN="Carrigrohane Union of Parishes":MAILTO:office@cupcork.ie
END:VEVENT
END:VCALENDAR